Workbook

Sheet 유의사항
B2: [2024학년도 경희대학교 정시모집 수능점수 환산기 사용 관련 유의사항] 1. 각 학과별 환산점수는 전년도(2023학년도) 정시모집 최종등록자의 상위 80%의 평균(국어, 수학, 탐구영역 백분위 기준)을 올 해(2024학년도) 대학수학능력시험 기준으로 환산한 점수입니다. 2. 각 환산점수는 계열별 반영비율 및 올해(2024학년도) 확정된 탐구영역 변환표준점수를 반영한 점수입니다. 3. 올 해 신설되는 광역모집(사회과학광역, ICT광역, 생명과학광역)의 환산점수는 각 광역모집에서 선택할 수 있는 모집단위(학과)의 상위 30%에 해당하는 점수로 설정하였습니다. 4. 본 자료는 전년도 입시결과를 반영한 '환산점수'의 개념이며, 예측점수가 아님을 유의하시기 바랍니다. 5. 본 자료는 본교 정시 지원을 준비하는 수험생의 편의를 위해 제공하는 자료입니다. 대학수학능력시험의 과목별 난이도 및 지원자 풀(Pool) 등의 다양한 사유에 따라, 실제 입시결과는 달라질 수 있음에 유의하시기 바랍니다. 단순 참고자료로 활용하시기 바랍니다. 6. 지리학과(인문), 한의예과(인문), 간호학과(인문), 건축학과(인문) 모집단위는 수학(확률과통계), 탐구(사회탐구 2과목) 응시자만 지원 가능합니다. 7. 수능위주(기회균형) 전형은 별도로 자료를 공개하지 않으며, 2023학년도 입학전형 통계자료집을 참고하시기 바랍니다. 8. 실기위주 전형은 수능점수 자료를 공개하지 않습니다. ※ 자료 활용 방법 * 첫번째 시트: 유의사항을 확인한다. * 두번째 시트(내 점수 입력): 본인의 수능점수를 입력하고, 계열별 환산점수를 확인한다. * 세번째 시트(전년도 결과): 전년도 환산점수를 확인한다.
C33: 경희대학교 입학처 홈페이지 바로가기 | J33: 2023학년도 입학전형 통계자료집 바로가기

Sheet 내 점수 입력
D3: 한국사 | E3: 국어 | F3: 수학 | H3: 영어 | I3: 탐구 | J3: 탐구1 | K3: 탐구2 | U3: 국어 | V3: 수학 | W3: 영어 | X3: 탐구 | Z3: 등급 | AA3: 영어 | AB3: 한국사 | AD3: 수학 | AG3: 과학
D4: 등급 | E4: 표준점수 | F4: 과목 | G4: 표준점수 | H4: 등급 | I4: 영역 | J4: 백분위 | K4: 백분위 | T4: 인문 | U4: 0.35 | V4: 0.25 | W4: 0.15 | X4: 0.25 | Z4: 1 | AA4: 200 | AB4: 0 | AD4: 1 | AE4: 확 | AG4: 1 | AH4: 사
C5: 점수입력▶ | D5: 1 | E5: 126 | F5: 확률과통계 | G5: 130 | H5: 2 | I5: 사회 | J5: 89 | K5: 90 | T5: 건축간호 | U5: 0.35 | V5: 0.25 | W5: 0.15 | X5: 0.25 | Z5: 2 | AA5: 196 | AB5: 0 | AD5: 2 | AE5: 미 | AG5: 2 | AH5: 과
D6: =VLOOKUP(D5, $Z$4:$AB$12, 3, 0) -> 0 | E6: =IF(E5="", NA(), E5) -> 126 | F6: =VLOOKUP(LEFT(TRIM(SUBSTITUTE(F5, " ", "")),1), $AD$4:$AE$12, 2, 0) -> 확 | G6: =IF(G5="", NA(), G5) -> 130 | H6: =VLOOKUP(H5, $Z$3:$AA$12, 2, 0) -> 196 | I6: =VLOOKUP(TRIM(SUBSTITUTE(I5," ","")), $AG$4:$AH$12, 2, 0) -> 사 | J6: =IF(J5="", NA(), VLOOKUP(J5, 탐구변표!$A$1:$C$102, 2, 0)) -> 63.39 | K6: =IF(K5="", NA(), VLOOKUP(K5, 탐구변표!$A$1:$C$102, 2, 0)) -> 63.77 | T6: 사회 | U6: 0.25 | V6: 0.35 | W6: 0.15 | X6: 0.25 | Z6: 3 | AA6: 188 | AB6: 0 | AD6: 3 | AE6: 기 | AG6: 3 | AH6: 사과
J7: =IF(J5="", NA(), VLOOKUP(J5, 탐구변표!$A$1:$C$102, 3, 0)) -> 63.89 | K7: =IF(K5="", NA(), VLOOKUP(K5, 탐구변표!$A$1:$C$102, 3, 0)) -> 64.33 | T7: 지리한의예 | U7: 0.25 | V7: 0.35 | W7: 0.15 | X7: 0.25 | Z7: 4 | AA7: 160 | AB7: 0 | AD7: 확 | AE7: 확 | AG7: 사회 | AH7: 사
J8: =IF( AND(J5="", K5=""), NA(), VLOOKUP(MAX($J$5:$K$5), 탐구변표!$A$1:$B$102, 2, 0)) -> 63.77 | T8: 자연 | U8: 0.2 | V8: 0.35 | W8: 0.15 | X8: 0.3 | Z8: 5 | AA8: 120 | AB8: -5 | AD8: 미 | AE8: 미 | AG8: 과학 | AH8: 과
T9: 예술/체육 | U9: 0.5 | W9: 0.2 | X9: 0.3 | Z9: 6 | AA9: 80 | AB9: -10 | AD9: 기 | AE9: 기 | AG9: 사회과학 | AH9: 사과
E10: 내 점수 | G10: 한국사 | H10: 국어 | I10: 수학 | J10: 영어 | K10: 탐구 | N10: 백분위 | T10: 스포츠지도 | U10: 0.5 | W10: 0.2 | X10: 0.3 | Z10: 7 | AA10: 46 | AB10: -15 | AD10: 확통 | AE10: 확 | AG10: 사 | AH10: 사
C11: 인문 | E11: =IFERROR( TRUNC(SUM(G11:K11)/2*8,2), " 응시영역 불일치 ") -> 551.16 | G11: =$D$6 -> 0 | H11: =$E$6*U4 -> 44.1 | I11: =$G$6*V4 -> 32.5 | J11: =$H$6*W4 -> 29.4 | K11: =IF(OR(J5="", K5=""), NA(), SUM(J6:K6)*X4) -> 31.79 | N11: 평균 | O11: 국어 | P11: 수학 | Q11: 탐구 | T11: 태권도 | U11: 0.5 | W11: 0.2 | X11: 0.3 | Z11: 8 | AA11: 22 | AB11: -20 | AD11: 미적 | AE11: 미 | AG11: 과 | AH11: 과
C12: 건축(인)간호(인) | E12: =IFERROR( TRUNC(SUM(G12:K12)/2*8,2), " 응시영역 불일치 ") -> 551.16 | G12: =$D$6 -> 0 | H12: =$E$6*U5 -> 44.1 | I12: =IF($F$6="확", $G$6*V5, NA()) -> 32.5 | J12: =$H$6*W5 -> 29.4 | K12: =IF($I$6="사", IF(OR(J5="",K5=""), NA(), SUM(J6:K6)*X5), NA()) -> 31.79 | M12: 인문 | N12: =AVERAGE(O12,P12,Q12) -> 91.166667 | O12: =VLOOKUP($E$5, 백분위!$A$2:$D$113, 4, 0) -> 90 | P12: =VLOOKUP($G$5, 백분위!$G$2:$J$88, 4, 0) -> 94 | Q12: =IF(OR(J5="", K5=""), NA(), AVERAGE(J5:K5)) -> 89.5 | Z12: 9 | AA12: 0 | AB12: -25 | AD12: 기하 | AE12: 기 | AG12: 사과 | AH12: 사과
C13: 사회 | E13: =IFERROR( TRUNC(SUM(G13:K13)/2*8,2), " 응시영역 불일치 ") -> 552.76 | G13: =$D$6 -> 0 | H13: =$E$6*U6 -> 31.5 | I13: =$G$6*V6 -> 45.5 | J13: =$H$6*W6 -> 29.4 | K13: =SUM(J6:K6)*X6 -> 31.79 | M13: 사회 | N13: =AVERAGE(O13,P13,Q13) -> 91.166667 | O13: =VLOOKUP($E$5, 백분위!$A$2:$D$113, 4, 0) -> 90 | P13: =VLOOKUP($G$5, 백분위!$G$2:$J$88, 4, 0) -> 94 | Q13: =IF(OR(J5="", K5=""), NA(), AVERAGE(J5:K5)) -> 89.5
C14: 지리(인)한의예(인) | E14: =IFERROR( TRUNC(SUM(G14:K14)/2*8,2), " 응시영역 불일치 ") -> 552.76 | G14: =$D$6 -> 0 | H14: =$E$6*U7 -> 31.5 | I14: =IF($F$6="확", $G$6*V7, NA()) -> 45.5 | J14: =$H$6*W7 -> 29.4 | K14: =IF($I$6="사", IF(OR(J5="", K5=""), NA(), SUM(J6:K6)*X7), NA()) -> 31.79 | M14: 자연 | N14: =AVERAGE(O14,P14,Q14) -> 91.166667 | O14: =VLOOKUP($E$5, 백분위!$A$2:$D$113, 4, 0) -> 90 | P14: =VLOOKUP($G$5, 백분위!$G$2:$J$88, 4, 0) -> 94 | Q14: =IF(OR(J5="", K5=""), NA(), AVERAGE(J5:K5)) -> 89.5
C15: 자연 | E15: =IFERROR( TRUNC(SUM(G15:K15)/2*8,2), " 응시영역 불일치 ") -> 응시영역 불일치 | G15: =$D$6 -> 0 | H15: =$E$6*U8 -> 25.2 | I15: =IF($F$6="확", NA(), $G$6*V8) -> #N/A | J15: =$H$6*W8 -> 29.4 | K15: =IF($I$6="과", IF(OR(J5="", K5=""), NA(), SUM(J7:K7)*X8), NA()) -> #N/A | M15: 예술/체육 | N15: =AVERAGE(O15,Q15) -> 90 | O15: =VLOOKUP($E$5, 백분위!$A$2:$D$113, 4, 0) -> 90 | P15: - | Q15: =IF( AND(J5="", K5=""), NA(), MAX(J5:K5)) -> 90
C16: 예술/체육 | E16: =IFERROR( TRUNC(SUM(G16:K16)/2*8,2), " 응시영역 불일치 ") -> 605.32 | G16: =$D$6 -> 0 | H16: =$E$6*U9 -> 63 | I16: - | J16: =$H$6*W9 -> 39.2 | K16: =SUM(J8, 100)*X9 -> 49.131
C17: 스포츠지도학과 | E17: =IFERROR( TRUNC(SUM(G17:K17)/2*5,2), " 응시영역 불일치 ") -> 378.32 | G17: =$D$6 -> 0 | H17: =$E$6*U10 -> 63 | I17: - | J17: =$H$6*W10 -> 39.2 | K17: =SUM(J8, 100)*X10 -> 49.131
C18: 태권도학과 | E18: =IFERROR( TRUNC(SUM(G18:K18)/2*9,2), " 응시영역 불일치 ") -> 680.98 | G18: =$D$6 -> 0 | H18: =$E$6*U11 -> 63 | I18: - | J18: =$H$6*W11 -> 39.2 | K18: =SUM(J8, 100)*X11 -> 49.131

Sheet 전년도 결과
C1: 인문 | D1: 건축(인)간호(인) | E1: 사회 | F1: 지리(인)한의예(인) | G1: 자연 | K1: 예술/체육 | L1: 스포츠지도학과 | M1: 태권도학과
B2: 내 점수 | C2: 인문 | D2: 건축(인문) 간호(인문) | E2: 사회 | F2: 지리(인문) 한의예(인문) | G2: 자연 | J2: 내 점수 | K2: 예술/체육 | L2: 스포츠 지도학과 | M2: 태권도학과
C3: =VLOOKUP(C1, '내 점수 입력'!$C$11:$F$18, 3, 0) -> 551.16 | D3: =VLOOKUP(D1, '내 점수 입력'!$C$11:$F$18, 3, 0) -> 551.16 | E3: =VLOOKUP(E1, '내 점수 입력'!$C$11:$F$18, 3, 0) -> 552.76 | F3: =VLOOKUP(F1, '내 점수 입력'!$C$11:$F$18, 3, 0) -> 552.76 | G3: =VLOOKUP(G1, '내 점수 입력'!$C$11:$F$18, 3, 0) -> 응시영역 불일치 | K3: =VLOOKUP(K1, '내 점수 입력'!$C$11:$F$18, 3, 0) -> 605.32 | L3: =VLOOKUP(L1, '내 점수 입력'!$C$11:$F$18, 3, 0) -> 378.32 | M3: =VLOOKUP(M1, '내 점수 입력'!$C$11:$F$18, 3, 0) -> 680.98
B5: 가군 | J5: 나군 | R5: ※ 2024학년도 모집인원은 수시모집 등록결과에 따라 달라질 수 있음
B6: 수능반영계열 | C6: 모집단위 | E6: 환산점수 | F6: 2024모집인원 | G6: 2023경쟁률 | H6: 2023충원률 | J6: 수능반영계열 | K6: 모집단위 | M6: 환산점수 | N6: 2024모집인원 | O6: 2023경쟁률 | P6: 2023충원률 | R6: * 신설 모집단위
B7: 인문 | C7: 국어국문학과 | E7: 549.1 | F7: 18 | G7: 3.7058824 | H7: 1.2352941 | J7: 사회 | K7: 국제학과 | M7: 544.58 | N7: 63 | O7: 4.0307692 | P7: 0.53846154
C8: 영어영문학과 | E8: 550.66 | F8: 19 | G8: 4.4736842 | H8: 1.0526316 | J8: 건축(인)간호(인) | K8: 건축학과(5년제)[인문] | M8: 549.5 | N8: 11 | O8: 3.5454545 | P8: 0.90909091
C9: 응용영어통번역학과 | E9: 549.5 | F9: 17 | G9: 4.1052632 | H9: 0.57894737 | J9: 자연 | K9: 기계공학과 | M9: 552.112 | N9: 68 | O9: 3.173913 | P9: 0.73913043
C10: 사학과 | E10: 549.5 | F10: 12 | G10: 5.0833333 | H10: 0.91666667 | K10: 산업경영공학과 | M10: 550.256 | N10: 35 | O10: 4.0285714 | P10: 0.4
C11: 철학과 | E11: 549.26 | F11: 14 | G11: 4 | H11: 1 | K11: 원자력공학과 | M11: 551.312 | N11: 28 | O11: 2.5714286 | P11: 0.60714286
C12: 프랑스어학과 | E12: 542.18 | F12: 17 | G12: 4.8823529 | H12: 0.17647059 | K12: 화학공학과 | M12: 554.916 | N12: 31 | O12: 3.375 | P12: 0.8125
C13: 스페인어학과 | E13: 541.68 | F13: 17 | G13: 3.6666667 | H13: 0.22222222 | K13: 정보전자신소재공학과 | M13: 554.916 | N13: 34 | O13: 3.5588235 | P13: 1.2352941
C14: 러시아어학과 | E14: 539.14 | F14: 17 | G14: 4.4117647 | H14: 0.41176471 | K14: 사회기반시스템공학과 | M14: 543.624 | N14: 36 | O14: 3.9736842 | P14: 0.52631579
C15: 중국어학과 | E15: 542.14 | F15: 21 | G15: 5.9047619 | H15: 0.47619048 | K15: 건축공학과 | M15: 543.624 | N15: 36 | O15: 2.5789474 | P15: 0.76315789
C16: 일본어학과 | E16: 540.18 | F16: 20 | G16: 5.3157895 | H16: 1.1052632 | K16: 환경학및환경공학과 | M16: 548.328 | N16: 22 | O16: 5.3478261 | P16: 0.47826087
C17: 한국어학과 | E17: 542.18 | F17: 10 | G17: 4.2 | H17: 0.5 | K17: 건축학과(5년제)[자연] | M17: 548.328 | N17: 14 | O17: 4.4285714 | P17: 1.2857143
C18: 글로벌커뮤니케이션학부 | E18: 546.32 | F18: 33 | G18: 4.030303 | H18: 0.84848485 | K18: 응용수학과 | M18: 550.256 | N18: 17 | O18: 2.8823529 | P18: 0.41176471
C19: 아동가족학과 | E19: 549.5 | F19: 11 | G19: 5.75 | H19: 1.5 | K19: 응용물리학과 | M19: 550.112 | N19: 19 | O19: 3.45 | P19: 0.5
C20: 주거환경학과 | E20: 549.1 | F20: 16 | G20: 3.7647059 | H20: 0.82352941 | K20: 응용화학과 | M20: 550.256 | N20: 25 | O20: 3.0384615 | P20: 0.57692308
C21: 의상학과 | E21: 548.5 | F21: 16 | G21: 4.2352941 | H21: 0.47058824 | K21: 우주과학과 | M21: 552.012 | N21: 19 | O21: 4.4444444 | P21: 0.72222222
B22: 건축(인)간호(인) | C22: 간호학과(인문) | E22: 550.66 | F22: 18 | G22: 5.2222222 | H22: 0.83333333 | K22: *생명과학광역 | M22: 548.328 | N22: 20 | O22: - | P22: -
B23: 지리(인)한의예(인) | C23: 지리학과(인문) | E23: 547.12 | F23: 12 | G23: 3.75 | H23: 0.16666667 | K23: 유전생명공학과 | M23: 550.256 | N23: 25 | O23: 3.1714286 | P23: 0.94285714
B24: 사회 | C24: 자율전공학부 | E24: 552.06 | F24: 29 | G24: 3.7096774 | H24: 0.67741935 | K24: 식품생명공학과 | M24: 546.928 | N24: 18 | O24: 3.1818182 | P24: 0.54545455
C25: *사회과학광역 | E25: 552.06 | F25: 56 | G25: - | H25: - | K25: 한방생명공학과 | M25: 546.928 | N25: 12 | O25: 4.8823529 | P25: 0.52941176
C26: 정치외교학과 | E26: 550.66 | F26: 16 | G26: 4.0588235 | H26: 0.94117647 | K26: 식물·환경신소재공학과 | M26: 546.928 | N26: 10 | O26: 9 | P26: 0.42857143
C27: 행정학과 | E27: 550.66 | F27: 29 | G27: 3.90625 | H27: 0.65625 | K27: 스마트팜과학과 | M27: 546.928 | N27: 17 | O27: 4.0909091 | P27: 0.36363636
C28: 사회학과 | E28: 550.16 | F28: 12 | G28: 4.2 | H28: 1 | K28: 의예과 | M28: 604.2 | N28: 44 | O28: 6.2272727 | P28: 3.0909091
C29: 경제학과 | E29: 550.66 | F29: 44 | G29: 3.3617021 | H29: 0.68085106 | K29: 한의예과(자연) | M29: 586.856 | N29: 32 | O29: 4.8125 | P29: 0.21875
C30: 무역학과 | E30: 550.16 | F30: 30 | G30: 3.375 | H30: 0.34375 | K30: 치의예과 | M30: 591.6 | N30: 33 | O30: 4.53125 | P30: 0.8125
C31: 미디어학과 | E31: 550.66 | F31: 22 | G31: 3 | H31: 0.45833333 | K31: 약학과 | M31: 579.144 | N31: 15 | O31: 7.5333333 | P31: 1.2
C32: 경영학과 | E32: 551.16 | F32: 76 | G32: 3.2654867 | H32: 0.68141593 | J32: 지리(인)한의예(인) | K32: 한의예과(인문) | M32: 588.74 | N32: 13 | O32: 5 | P32: 0.15384615
C33: 회계·세무학과 | E33: 555.28 | F33: 30 | G33: 3.09375 | H33: 0.75 | J33: 예술 | K33: 산업디자인학과 | M33: 628.232 | N33: 2 | O33: 9.5 | P33: 0.5
C34: 빅데이터응용학과 | E34: 556.5 | F34: 12 | G34: 4 | H34: 0.46153846 | K34: 환경조경디자인학과 | M34: 623.232 | N34: 5 | O34: 5.6666667 | P34: 0.33333333
C35: Hospitality경영학과 | E35: 548.9 | F35: 33 | G35: 3.804878 | H35: 0.46341463 | K35: 의류디자인학과 | M35: 623.412 | N35: 9 | O35: 4.8888889 | P35: 0.11111111
C36: 조리&푸드디자인학과 | E36: 547.12 | F36: 12 | G36: 3.8571429 | H36: 0.35714286 | K36: 디지털콘텐츠학과 | M36: 628.232 | N36: 2 | O36: 12.5 | P36: 0.5
C37: 관광·엔터테인먼트학부 | E37: 548.9 | F37: 27 | G37: 3.5 | H37: 0.15384615 | K37: 연극영화학과-영화연출 및 제작 | M37: 623.412 | N37: 9 | O37: 6.2222222 | P37: 0.11111111
C38: *글로벌Hospitality·관광학과 | E38: 550.9 | F38: 5 | G38: - | H38: - | J38: 체육 | K38: 체육학과 | M38: 618.372 | N38: 33 | O38: 3.5454545 | P38: 0.24242424
B39: 자연 | C39: 식품영양학과 | E39: 548.328 | F39: 15 | G39: 3.5333333 | H39: 0.93333333 | K39: 스포츠의학과 | M39: 620.96 | N39: 20 | O39: 4.4 | P39: 0.35
C40: 수학과 | E40: 550.256 | F40: 19 | G40: 4 | H40: 0.55 | K40: 골프산업학과 | M40: 613.88 | N40: 25 | O40: 4.16 | P40: 0.2
C41: 물리학과 | E41: 550.256 | F41: 20 | G41: 3.2 | H41: 0.75 | K41: **스포츠지도학과 | M41: 330.1925 | N41: 19 | O41: 2.16 | P41: 0.16
C42: 화학과 | E42: 551.312 | F42: 16 | G42: 4.7058824 | H42: 0.88235294 | K42: ***태권도학과 | M42: 680.9895 | N42: 21 | O42: 3.5714286 | P42: 0.23809524
C43: 생물학과 | E43: 551.312 | F43: 19 | G43: 4.6190476 | H43: 0.85714286
C44: 지리학과(자연) | E44: 544.624 | F44: 12 | G44: 4.1666667 | H44: 1 | L44: **스포츠지도학과 | M44: : 수능50% + 경기실적40% + 학생부10%
C45: 정보디스플레이학과 | E45: 555.416 | F45: 23 | G45: 3.0434783 | H45: 0.82608696 | L45: ***태권도학과 | M45: : 수능90% + 학생부10%
C46: *ICT광역 | E46: 554.616 | F46: 34 | G46: - | H46: -
C47: 전자정보공학부 전자공학과 | E47: 554.616 | F47: 53 | G47: 3.8974359 | H47: 0.66666667
C48: *전자정보공학부 반도체공학과 | E48: 555.416 | F48: 12 | G48: - | H48: -
C49: 생체의공학과 | E49: 552.112 | F49: 24 | G49: 4.04 | H49: 0.64
C50: 컴퓨터공학부 컴퓨터공학과 | E50: 555.416 | F50: 32 | G50: 3.75 | H50: 0.6
C51: 컴퓨터공학부 인공지능학과 | E51: 554.616 | F51: 13 | G51: 5.2352941 | H51: 0.23529412
C52: 소프트웨어융합학과 | E52: 555.416 | F52: 20 | G52: 4.44 | H52: 0.56
C53: 한약학과 | E53: 549.328 | F53: 19 | G53: 7.2222222 | H53: 0.16666667
C54: 약과학과 | E54: 554.916 | F54: 9 | G54: 6.9 | H54: 1
C55: 간호학과(자연) | E55: 548.328 | F55: 19 | G55: 3.6315789 | H55: 0.42105263

Sheet 탐구변표
A1: 백분위 | B1: 사회+과학 | C1: 과학
A2: 100 | B2: 69.35 | C2: 71.75
A3: 99 | B3: 68.71 | C3: 71
A4: 98 | B4: 67.77 | C4: 69.75
A5: 97 | B5: 67.06 | C5: 68.69
A6: 96 | B6: 66.53 | C6: 68
A7: 95 | B7: 66 | C7: 67.31
A8: 94 | B8: 65.51 | C8: 66.63
A9: 93 | B9: 65.1 | C9: 66.06
A10: 92 | B10: 64.59 | C10: 65.35
A11: 91 | B11: 64.18 | C11: 64.79
A12: 90 | B12: 63.77 | C12: 64.33
A13: 89 | B13: 63.39 | C13: 63.89
... A102: 0 | B102: 30.35 | C102: 30.25

Sheet 백분위
A1: 국어 | G1: 수학
A2: 표준점수 | B2: 계 | C2: 누적(계) | D2: 백분위 | E2: 표준점수 | G2: 표준점수 | H2: 계 | I2: 누적(계) | J2: 백분위 | K2: 표준점수
A3: 150 | B3: 64 | C3: 64 | D3: 100 | E3: 150 | G3: 148 | H3: 612 | I3: 612 | J3: 100 | K3: 148
A4: 148 | B4: 59 | C4: 123 | D4: 100 | E4: 148 | G4: 146 | H4: 86 | I4: 698 | J4: 100 | K4: 146
A5: 147 | B5: 161 | C5: 284 | D5: 100 | E5: 147 | G5: 145 | H5: 517 | I5: 1215 | J5: 100 | K5: 145
A6: 146 | B6: 148 | C6: 432 | D6: 100 | E6: 146 | G6: 144 | H6: 800 | I6: 2015 | J6: 100 | K6: 144
A7: 145 | B7: 277 | C7: 709 | D7: 100 | E7: 145 | G7: 143 | H7: 16 | I7: 2031 | J7: 100 | K7: 143
A8: 144 | B8: 512 | C8: 1221 | D8: 100 | E8: 144 | G8: 142 | H8: 325 | I8: 2356 | J8: 99 | K8: 142
A9: 143 | B9: 485 | C9: 1706 | D9: 100 | E9: 143 | G9: 141 | H9: 2091 | I9: 4447 | J9: 99 | K9: 141
A10: 142 | B10: 746 | C10: 2452 | D10: 100 | E10: 142 | G10: 140 | H10: 772 | I10: 5219 | J10: 99 | K10: 140
A11: 141 | B11: 886 | C11: 3338 | D11: 99 | E11: 141 | G11: 139 | H11: 278 | I11: 5497 | J11: 99 | K11: 139
A12: 140 | B12: 1118 | C12: 4456 | D12: 99 | E12: 140 | G12: 138 | H12: 1338 | I12: 6835 | J12: 99 | K12: 138
A13: 139 | B13: 1021 | C13: 5477 | D13: 99 | E13: 139 | G13: 137 | H13: 4175 | I13: 11010 | J13: 98 | K13: 137
A14: 138 | B14: 1699 | C14: 7176 | D14: 99 | E14: 138 | G14: 136 | H14: 634 | I14: 11644 | J14: 97 | K14: 136
... A88: 64 | B88: 2655 | C88: 424252 | D88: 5 | E88: 64 | G88: 62 | H88: 423 | I88: 426625 | J88: 0 | K88: 62
A89: 63 | B89: 2278 | C89: 426530 | D89: 4 | E89: 63
A90: 62 | B90: 2120 | C90: 428650 | D90: 3 | E90: 62
A91: 61 | B91: 2274 | C91: 430924 | D91: 3 | E91: 61
A92: 60 | B92: 3344 | C92: 434268 | D92: 2 | E92: 60
A93: 59 | B93: 1467 | C93: 435735 | D93: 2 | E93: 59
A94: 58 | B94: 1223 | C94: 436958 | D94: 2 | E94: 58
A95: 57 | B95: 2211 | C95: 439169 | D95: 1 | E95: 57
A96: 56 | B96: 680 | C96: 439849 | D96: 1 | E96: 56
A97: 55 | B97: 768 | C97: 440617 | D97: 1 | E97: 55
A98: 54 | B98: 524 | C98: 441141 | D98: 0 | E98: 54
A99: 53 | B99: 364 | C99: 441505 | D99: 0 | E99: 53
A100: 52 | B100: 332 | C100: 441837 | D100: 0 | E100: 52
... A113: 39 | B113: 219 | C113: 443090 | D113: 0 | E113: 39
A116: 계 | B116: 443090 | G116: 계 | H116: 426625
